BEGIN:VCALENDAR
VERSION:2.0
PRODID:icalendar-ruby
CALSCALE:GREGORIAN
METHOD:PUBLISH
BEGIN:VEVENT
DTSTAMP:20260423T155657Z
UID:5-580783@tekamahdecaturumcparish.org
DTSTART:20260426T150000Z
DTEND:20260426T160000Z
CLASS:PUBLIC
CREATED:20260423T103949
DESCRIPTION:Sunday Worship
LAST-MODIFIED:20260423T103949
LOCATION:
SUMMARY:Sunday Worship
URL;VALUE=URI:https://www.tekamahdecaturumcparish.org/events/sunday-worship
 /2026-04-26
END:VEVENT
END:VCALENDAR
